BEGIN:VCALENDAR
VERSION:2.0
PRODID:-//Tukios.com/
BEGIN:VEVENT
UID:d0fe199f-1505-445d-b7d3-aea4fb754e91@www.geiple.com
DTSTAMP:20260423T053047Z
DTSTART:20260425T140000Z
DTEND:20260425T150000Z
SUMMARY:Funeral Service
DESCRIPTION:
URL:https://www.geiple.com/obituaries/victoria-flemmens
LOCATION:Geiple-Predicce Funeral and Cremation Services, Inc. 53 Main St. 
	 Glen Rock PA 17327
GEO:39.7943893;-76.7314363
END:VEVENT
END:VCALENDAR