BEGIN:VCALENDAR
VERSION:2.0
PRODID:-//Tukios.com/
BEGIN:VEVENT
UID:8e22cdd8-76ee-441c-8246-157acd4bf92b@www.geiple.com
DTSTAMP:20260423T052657Z
DTSTART:20260425T153000Z
DTEND:20260425T154500Z
SUMMARY:Graveside Service
DESCRIPTION:
URL:https://www.geiple.com/obituaries/victoria-flemmens
LOCATION:Susquehanna Memorial Gardens 250 Chestnut Hill Road  York PA 
	17402
GEO:39.918952;-76.656127
END:VEVENT
END:VCALENDAR