BEGIN:VCALENDAR
VERSION:2.0
PRODID:-//Tukios.com/
BEGIN:VEVENT
UID:cdf4adc0-b197-4059-b9a2-34cdf6958c69@www.geiple.com
DTSTAMP:20260425T214432Z
DTSTART:20260430T150000Z
DTEND:20260430T153000Z
SUMMARY:Graveside Service
DESCRIPTION:
URL:https://www.geiple.com/obituaries/ronald-amspacher
LOCATION:New Freedom Cemetery Campbell Road  New Freedom PA 17349
GEO:39.7387585;-76.6906563
END:VEVENT
END:VCALENDAR